BEGIN:VCALENDAR
VERSION:2.0
PRODID:https://github.com/derhansen/sf_event_mgt
METHOD:PUBLISH
BEGIN:VEVENT
UID:6-15@vbha.ch
CLASS: PUBLIC
SUMMARY:Überbetrieblicher Kurs 3
DESCRIPTION:Referenten: Benjamin Knoth / Kerstin Wermuth\n\nOrt: BBZ Olten\
 n\nDatum:\n\n 	17. und 18. März 2026 	24. und 25. März 2026 
DTSTAMP:20250829T084655Z
DTSTART:20260317T070000Z
DTEND:20260325T160000Z
END:VEVENT
END:VCALENDAR
